BEGIN:VCALENDAR
VERSION:2.0
PRODID:-//Plone.org//NONSGML plone.app.event//EN
X-WR-TIMEZONE:Europe/Madrid
BEGIN:VEVENT
SUMMARY:El niño rosa: teatro infantil coeducativo
DTSTART;TZID=Europe/Madrid;VALUE=DATE-TIME:20211117T100000
DTEND;TZID=Europe/Madrid;VALUE=DATE-TIME:20211117T110000
DTSTAMP;VALUE=DATE-TIME:20260420T225349Z
UID:6f15990649d64532935dbda218500bae@icas.sevilla.org
CATEGORIES:Bibliotecas,Infantil
CREATED;VALUE=DATE-TIME:20211019T154037Z
LAST-MODIFIED;VALUE=DATE-TIME:20231006T075338Z
LOCATION:Biblioteca El Esqueleto
URL:https://icas.sevilla.org/agenda/el-nino-rosa-teatro-infantil-coeducati
 vo
END:VEVENT
BEGIN:VTIMEZONE
TZID:Europe/Madrid
X-LIC-LOCATION:Europe/Madrid
BEGIN:STANDARD
DTSTART;VALUE=DATE-TIME:20211031T020000
TZNAME:CET
TZOFFSETFROM:+0200
TZOFFSETTO:+0100
END:STANDARD
END:VTIMEZONE
END:VCALENDAR
