BEGIN:VCALENDAR
VERSION:2.0
PRODID:-//Plone.org//NONSGML plone.app.event//EN
X-WR-TIMEZONE:Europe/Madrid
BEGIN:VEVENT
SUMMARY:El príncipe feliz\, de Cía. Búho & Maravillas (Sevilla)
DTSTART;TZID=Europe/Madrid;VALUE=DATE-TIME:20210523T190000
DTEND;TZID=Europe/Madrid;VALUE=DATE-TIME:20210523T200000
DTSTAMP;VALUE=DATE-TIME:20260423T174710Z
UID:5b66b2c3fd21483586d8654084d38b96@icas.sevilla.org
CATEGORIES:Artes escénicas
CREATED;VALUE=DATE-TIME:20210429T073852Z
LAST-MODIFIED;VALUE=DATE-TIME:20231006T073617Z
URL:https://icas.sevilla.org/agenda/el-principe-feliz-de-cia-buho-maravill
 as-sevilla
END:VEVENT
BEGIN:VTIMEZONE
TZID:Europe/Madrid
X-LIC-LOCATION:Europe/Madrid
BEGIN:DAYLIGHT
DTSTART;VALUE=DATE-TIME:20210328T030000
TZNAME:CEST
TZOFFSETFROM:+0100
TZOFFSETTO:+0200
END:DAYLIGHT
END:VTIMEZONE
END:VCALENDAR
