BEGIN:VCALENDAR
VERSION:2.0
PRODID:-//Plone.org//NONSGML plone.app.event//EN
X-WR-TIMEZONE:Europe/Madrid
BEGIN:VEVENT
SUMMARY:El tiempo entre las hojas
DTSTART;VALUE=DATE:20210910
DTEND;VALUE=DATE:20211001
DTSTAMP;VALUE=DATE-TIME:20260419T231037Z
UID:8e82a486af5a47f59f04e6fc200dffa2@icas.sevilla.org
CATEGORIES:Exposiciones
CREATED;VALUE=DATE-TIME:20210913T073507Z
LAST-MODIFIED;VALUE=DATE-TIME:20231006T075046Z
URL:https://icas.sevilla.org/agenda/el-tiempo-entre-las-hojas
END:VEVENT
END:VCALENDAR
