BEGIN:VCALENDAR
VERSION:2.0
PRODID:-//Plone.org//NONSGML plone.app.event//EN
X-WR-TIMEZONE:Europe/Madrid
BEGIN:VEVENT
SUMMARY:El viaje de las Alicias
DTSTART;TZID=Europe/Madrid;VALUE=DATE-TIME:20210625T183000
DTEND;TZID=Europe/Madrid;VALUE=DATE-TIME:20210625T193000
DTSTAMP;VALUE=DATE-TIME:20260420T122620Z
UID:8e24679a47de4f7b8412e2a5ebfa190d@icas.sevilla.org
CATEGORIES:Bibliotecas,Literatura,Infantil
CREATED;VALUE=DATE-TIME:20210421T144946Z
LAST-MODIFIED;VALUE=DATE-TIME:20231006T073514Z
LOCATION:Biblioteca Las Columnas
URL:https://icas.sevilla.org/agenda/el-viaje-de-las-alicias
END:VEVENT
BEGIN:VTIMEZONE
TZID:Europe/Madrid
X-LIC-LOCATION:Europe/Madrid
BEGIN:DAYLIGHT
DTSTART;VALUE=DATE-TIME:20210328T030000
TZNAME:CEST
TZOFFSETFROM:+0100
TZOFFSETTO:+0200
END:DAYLIGHT
END:VTIMEZONE
END:VCALENDAR
