BEGIN:VCALENDAR
VERSION:2.0
PRODID:-//Plone.org//NONSGML plone.app.event//EN
X-WR-TIMEZONE:Europe/Madrid
BEGIN:VEVENT
SUMMARY:El Viaje de Platero
DTSTART;TZID=Europe/Madrid;VALUE=DATE-TIME:20220428T100000
DTEND;TZID=Europe/Madrid;VALUE=DATE-TIME:20220428T123000
DTSTAMP;VALUE=DATE-TIME:20260420T132636Z
UID:e3299ccb1e1f4427945f4013b9037c43@icas.sevilla.org
CATEGORIES:Cuentacuentos
CREATED;VALUE=DATE-TIME:20220411T171024Z
LAST-MODIFIED;VALUE=DATE-TIME:20231006T080012Z
LOCATION:Biblioteca Torreblanca
URL:https://icas.sevilla.org/agenda/el-viaje-de-platero-1
END:VEVENT
BEGIN:VTIMEZONE
TZID:Europe/Madrid
X-LIC-LOCATION:Europe/Madrid
BEGIN:DAYLIGHT
DTSTART;VALUE=DATE-TIME:20220327T030000
TZNAME:CEST
TZOFFSETFROM:+0100
TZOFFSETTO:+0200
END:DAYLIGHT
END:VTIMEZONE
END:VCALENDAR
