BEGIN:VCALENDAR
VERSION:2.0
PRODID:-//Plone.org//NONSGML plone.app.event//EN
X-WR-TIMEZONE:Europe/Madrid
BEGIN:VEVENT
SUMMARY:El viaje de Platero
DTSTART;TZID=Europe/Madrid;VALUE=DATE-TIME:20210714T113000
DTEND;TZID=Europe/Madrid;VALUE=DATE-TIME:20210714T123000
DTSTAMP;VALUE=DATE-TIME:20260422T132644Z
UID:5d867c7e4a2343ffacf65efbf94b8aae@icas.sevilla.org
CATEGORIES:Bibliotecas,Infantil
CREATED;VALUE=DATE-TIME:20210608T145753Z
LAST-MODIFIED;VALUE=DATE-TIME:20231006T073702Z
LOCATION:Biblioteca Las Columnas
URL:https://icas.sevilla.org/agenda/el-viaje-de-platero
END:VEVENT
BEGIN:VTIMEZONE
TZID:Europe/Madrid
X-LIC-LOCATION:Europe/Madrid
BEGIN:DAYLIGHT
DTSTART;VALUE=DATE-TIME:20210328T030000
TZNAME:CEST
TZOFFSETFROM:+0100
TZOFFSETTO:+0200
END:DAYLIGHT
END:VTIMEZONE
END:VCALENDAR
