BEGIN:VCALENDAR
VERSION:2.0
PRODID:-//Plone.org//NONSGML plone.app.event//EN
X-WR-TIMEZONE:Europe/Madrid
BEGIN:VEVENT
SUMMARY:Elige tus lecturas infantiles en la Biblioteca Julia Uceda. De 7 a
  16 años. Sesión en línea.
DTSTART;VALUE=DATE:20201127
DTEND;VALUE=DATE:20201128
DTSTAMP;VALUE=DATE-TIME:20260423T021810Z
UID:5fe6c5da42ff488f981d0811fe811ae3@icas.sevilla.org
CATEGORIES:literatura,infantil
CREATED;VALUE=DATE-TIME:20201117T160715Z
LAST-MODIFIED;VALUE=DATE-TIME:20231006T072907Z
URL:https://icas.sevilla.org/agenda/elige-tus-lecturas-infantiles-en-la-bi
 blioteca-julia-uceda-de-7-a-16-anos-sesion-en-linea
END:VEVENT
END:VCALENDAR
