BEGIN:VCALENDAR
VERSION:2.0
PRODID:-//Plone.org//NONSGML plone.app.event//EN
X-WR-TIMEZONE:Europe/Madrid
BEGIN:VEVENT
SUMMARY:Proyección: 'Ema'
DTSTART;TZID=Europe/Madrid;VALUE=DATE-TIME:20210318T191500
DTEND;TZID=Europe/Madrid;VALUE=DATE-TIME:20210318T201500
DTSTAMP;VALUE=DATE-TIME:20260422T231447Z
UID:a978d531cf55423c8d20cd758ef5623a@icas.sevilla.org
CATEGORIES:Cine
CREATED;VALUE=DATE-TIME:20210315T170942Z
DESCRIPTION:III Muestra de Cine Social LIVING SUR
LAST-MODIFIED;VALUE=DATE-TIME:20231006T073249Z
URL:https://icas.sevilla.org/agenda/ema-larrain
END:VEVENT
BEGIN:VTIMEZONE
TZID:Europe/Madrid
X-LIC-LOCATION:Europe/Madrid
BEGIN:STANDARD
DTSTART;VALUE=DATE-TIME:20201025T020000
TZNAME:CET
TZOFFSETFROM:+0200
TZOFFSETTO:+0100
END:STANDARD
END:VTIMEZONE
END:VCALENDAR
