BEGIN:VCALENDAR
VERSION:2.0
PRODID:-//Plone.org//NONSGML plone.app.event//EN
X-WR-TIMEZONE:Europe/Madrid
BEGIN:VEVENT
SUMMARY:PluralEnsemble
DTSTART;TZID=Europe/Madrid;VALUE=DATE-TIME:20201109T193000
DTEND;TZID=Europe/Madrid;VALUE=DATE-TIME:20201109T213000
DTSTAMP;VALUE=DATE-TIME:20260424T220333Z
UID:ce45758343cc4c5997e306964286fb6f@icas.sevilla.org
CATEGORIES:Música
CREATED;VALUE=DATE-TIME:20200924T125020Z
LAST-MODIFIED;VALUE=DATE-TIME:20231006T072530Z
LOCATION:Sala Silvio
URL:https://icas.sevilla.org/agenda/encuentros-ensemble-nav
END:VEVENT
BEGIN:VTIMEZONE
TZID:Europe/Madrid
X-LIC-LOCATION:Europe/Madrid
BEGIN:STANDARD
DTSTART;VALUE=DATE-TIME:20201025T020000
TZNAME:CET
TZOFFSETFROM:+0200
TZOFFSETTO:+0100
END:STANDARD
END:VTIMEZONE
END:VCALENDAR
