BEGIN:VCALENDAR
VERSION:2.0
PRODID:-//Plone.org//NONSGML plone.app.event//EN
X-WR-TIMEZONE:Europe/Madrid
BEGIN:VEVENT
SUMMARY:Entrega de Premios del concurso “Escribir sobre una pandemia. Cr
 ónicas en tiempos de virus”
DTSTART;TZID=Europe/Madrid;VALUE=DATE-TIME:20211126T180000
DTEND;TZID=Europe/Madrid;VALUE=DATE-TIME:20211126T190000
DTSTAMP;VALUE=DATE-TIME:20260423T142154Z
UID:8ef51c293313437e81b9d3029f68f464@icas.sevilla.org
CATEGORIES:Bibliotecas
CREATED;VALUE=DATE-TIME:20211024T171115Z
LAST-MODIFIED;VALUE=DATE-TIME:20231006T075402Z
LOCATION:Por determinar
URL:https://icas.sevilla.org/agenda/entrega-de-premios-del-concurso-201ces
 cribir-sobre-una-pandemia-cronicas-en-tiempos-de-virus201d
END:VEVENT
BEGIN:VTIMEZONE
TZID:Europe/Madrid
X-LIC-LOCATION:Europe/Madrid
BEGIN:STANDARD
DTSTART;VALUE=DATE-TIME:20211031T020000
TZNAME:CET
TZOFFSETFROM:+0200
TZOFFSETTO:+0100
END:STANDARD
END:VTIMEZONE
END:VCALENDAR
