BEGIN:VCALENDAR
VERSION:2.0
PRODID:-//Plone.org//NONSGML plone.app.event//EN
X-WR-TIMEZONE:Europe/Madrid
BEGIN:VEVENT
SUMMARY:Envioletá. Un estudio
DTSTART;TZID=Europe/Madrid;VALUE=DATE-TIME:20230125T190000
DTEND;TZID=Europe/Madrid;VALUE=DATE-TIME:20230125T200000
DTSTAMP;VALUE=DATE-TIME:20260423T083319Z
UID:a7a88e989b904593924d363f8b5d9885@icas.sevilla.org
CREATED;VALUE=DATE-TIME:20230117T125140Z
LAST-MODIFIED;VALUE=DATE-TIME:20231006T080323Z
URL:https://icas.sevilla.org/agenda/envioleta-un-estudio
END:VEVENT
BEGIN:VTIMEZONE
TZID:Europe/Madrid
X-LIC-LOCATION:Europe/Madrid
BEGIN:STANDARD
DTSTART;VALUE=DATE-TIME:20221030T020000
TZNAME:CET
TZOFFSETFROM:+0200
TZOFFSETTO:+0100
END:STANDARD
END:VTIMEZONE
END:VCALENDAR
