BEGIN:VCALENDAR
VERSION:2.0
PRODID:-//Plone.org//NONSGML plone.app.event//EN
X-WR-TIMEZONE:Europe/Madrid
BEGIN:VEVENT
SUMMARY:Érase una vez… un mundo al revés: cuentos y títeres
DTSTART;TZID=Europe/Madrid;VALUE=DATE-TIME:20211104T100000
DTEND;TZID=Europe/Madrid;VALUE=DATE-TIME:20211104T130000
DTSTAMP;VALUE=DATE-TIME:20260425T222318Z
UID:d977549c50354b8a80c2bd0243722b25@icas.sevilla.org
CATEGORIES:Bibliotecas,Cuentacuentos,Infantil
CREATED;VALUE=DATE-TIME:20211025T194615Z
LAST-MODIFIED;VALUE=DATE-TIME:20231006T075450Z
LOCATION:Biblioteca Parque Alcosa
URL:https://icas.sevilla.org/agenda/erase-una-vez-un-mundo-al-reves-cuento
 s-y-titeres
END:VEVENT
BEGIN:VTIMEZONE
TZID:Europe/Madrid
X-LIC-LOCATION:Europe/Madrid
BEGIN:STANDARD
DTSTART;VALUE=DATE-TIME:20211031T020000
TZNAME:CET
TZOFFSETFROM:+0200
TZOFFSETTO:+0100
END:STANDARD
END:VTIMEZONE
END:VCALENDAR
