BEGIN:VCALENDAR
VERSION:2.0
PRODID:-//Plone.org//NONSGML plone.app.event//EN
X-WR-TIMEZONE:Europe/Madrid
BEGIN:VEVENT
SUMMARY:Espectáculo familiar de narración oral: 'A reír que son dos dí
 as: Vida monstruosa'
DTSTART;TZID=Europe/Madrid;VALUE=DATE-TIME:20211021T180000
DTEND;TZID=Europe/Madrid;VALUE=DATE-TIME:20211021T190000
DTSTAMP;VALUE=DATE-TIME:20260423T140025Z
UID:9b8158b3295c4dfbba0d0be24ca929a2@icas.sevilla.org
CATEGORIES:Infantil,Literatura
CREATED;VALUE=DATE-TIME:20210921T092050Z
LAST-MODIFIED;VALUE=DATE-TIME:20231006T075202Z
LOCATION:Biblioteca Felipe González
URL:https://icas.sevilla.org/agenda/espectaculo-familiar-de-narracion-oral
 -a-reir-que-son-dos-dias-vida-monstruosa
END:VEVENT
BEGIN:VTIMEZONE
TZID:Europe/Madrid
X-LIC-LOCATION:Europe/Madrid
BEGIN:DAYLIGHT
DTSTART;VALUE=DATE-TIME:20210328T030000
TZNAME:CEST
TZOFFSETFROM:+0100
TZOFFSETTO:+0200
END:DAYLIGHT
END:VTIMEZONE
END:VCALENDAR
