BEGIN:VCALENDAR
VERSION:2.0
PRODID:-//Plone.org//NONSGML plone.app.event//EN
X-WR-TIMEZONE:Europe/Madrid
BEGIN:VEVENT
SUMMARY:Espectáculo familiar de narración oral: 'Cuentos florecientes'. 
 Biblioteca Municipal Felipe González Márquez
DTSTART;VALUE=DATE:20201119
DTEND;VALUE=DATE:20201120
DTSTAMP;VALUE=DATE-TIME:20260422T134337Z
UID:609f8ff365414ef18c9fdcda2c75e604@icas.sevilla.org
CREATED;VALUE=DATE-TIME:20201117T142708Z
LAST-MODIFIED;VALUE=DATE-TIME:20231006T072849Z
URL:https://icas.sevilla.org/agenda/espectaculo-familiar-de-narracion-oral
 -cuentos-florecientes-biblioteca-municipal-felipe-gonzalez-marquez
END:VEVENT
END:VCALENDAR
