BEGIN:VCALENDAR
VERSION:2.0
PRODID:-//Plone.org//NONSGML plone.app.event//EN
X-WR-TIMEZONE:Europe/Madrid
BEGIN:VEVENT
SUMMARY:Este loco mundo. La magia de la literatura
DTSTART;TZID=Europe/Madrid;VALUE=DATE-TIME:20210701T120000
DTEND;TZID=Europe/Madrid;VALUE=DATE-TIME:20210701T130000
DTSTAMP;VALUE=DATE-TIME:20260423T172859Z
UID:655662d598ee4df2a4ddc607a077fed1@icas.sevilla.org
CATEGORIES:Bibliotecas,Infantil
CREATED;VALUE=DATE-TIME:20210608T143923Z
LAST-MODIFIED;VALUE=DATE-TIME:20231006T073654Z
LOCATION:Biblioteca Julia Uceda
URL:https://icas.sevilla.org/agenda/este-loco-mundo-la-magia-de-la-literat
 ura
END:VEVENT
BEGIN:VTIMEZONE
TZID:Europe/Madrid
X-LIC-LOCATION:Europe/Madrid
BEGIN:DAYLIGHT
DTSTART;VALUE=DATE-TIME:20210328T030000
TZNAME:CEST
TZOFFSETFROM:+0100
TZOFFSETTO:+0200
END:DAYLIGHT
END:VTIMEZONE
END:VCALENDAR
