BEGIN:VCALENDAR
VERSION:2.0
PRODID:-//Plone.org//NONSGML plone.app.event//EN
X-WR-TIMEZONE:Europe/Madrid
BEGIN:VEVENT
SUMMARY:Exploración creativa en el lenguaje de las marionetas - Tita Iaco
 belli (Chile)
DTSTART;TZID=Europe/Madrid;VALUE=DATE-TIME:20210519T090000
DTEND;TZID=Europe/Madrid;VALUE=DATE-TIME:20210519T140000
DTSTAMP;VALUE=DATE-TIME:20260423T114517Z
UID:ba6ae3add7944f92b001812703a9d738@icas.sevilla.org
CATEGORIES:Debate,Artes escénicas
CREATED;VALUE=DATE-TIME:20210428T094733Z
LAST-MODIFIED;VALUE=DATE-TIME:20231006T073604Z
LOCATION:ESCUELA SUPERIOR DE ARTE DRAMÁTICO (ESAD)
URL:https://icas.sevilla.org/agenda/exploracion-creativa-en-el-lenguaje-de
 -las-marionetas-tita-iacobelli
END:VEVENT
BEGIN:VTIMEZONE
TZID:Europe/Madrid
X-LIC-LOCATION:Europe/Madrid
BEGIN:DAYLIGHT
DTSTART;VALUE=DATE-TIME:20210328T030000
TZNAME:CEST
TZOFFSETFROM:+0100
TZOFFSETTO:+0200
END:DAYLIGHT
END:VTIMEZONE
END:VCALENDAR
