BEGIN:VCALENDAR
VERSION:2.0
PRODID:-//Plone.org//NONSGML plone.app.event//EN
X-WR-TIMEZONE:Europe/Madrid
BEGIN:VEVENT
SUMMARY:Exposición ‘Bibliokepos’
DTSTART;TZID=Europe/Madrid;VALUE=DATE-TIME:20230511T190000
DTEND;TZID=Europe/Madrid;VALUE=DATE-TIME:20230616T210000
DTSTAMP;VALUE=DATE-TIME:20260423T141834Z
UID:2240ede3da494dbe95f739c0c8092cef@icas.sevilla.org
CATEGORIES:Exposición
CREATED;VALUE=DATE-TIME:20230512T085656Z
LAST-MODIFIED;VALUE=DATE-TIME:20231006T080505Z
URL:https://icas.sevilla.org/agenda/exposicion-2018bibliokepos2019
END:VEVENT
BEGIN:VTIMEZONE
TZID:Europe/Madrid
X-LIC-LOCATION:Europe/Madrid
BEGIN:DAYLIGHT
DTSTART;VALUE=DATE-TIME:20230326T030000
TZNAME:CEST
TZOFFSETFROM:+0100
TZOFFSETTO:+0200
END:DAYLIGHT
END:VTIMEZONE
END:VCALENDAR
