BEGIN:VCALENDAR
VERSION:2.0
PRODID:-//Plone.org//NONSGML plone.app.event//EN
X-WR-TIMEZONE:Europe/Madrid
BEGIN:VEVENT
SUMMARY:Exposición Cabeza de animal\, de Pedro Mora
DTSTART;VALUE=DATE:20250320
DTEND;VALUE=DATE:20250801
DTSTAMP;VALUE=DATE-TIME:20260425T191049Z
UID:a7fc077032c64edab2b414a5710145cb@icas.sevilla.org
CATEGORIES:exposición
CREATED;VALUE=DATE-TIME:20250324T140442Z
LAST-MODIFIED;VALUE=DATE-TIME:20250324T140553Z
URL:https://icas.sevilla.org/agenda/exposicion-cabeza-de-animal-de-pedro-m
 ora
END:VEVENT
END:VCALENDAR
