BEGIN:VCALENDAR
VERSION:2.0
PRODID:-//Plone.org//NONSGML plone.app.event//EN
X-WR-TIMEZONE:Europe/Madrid
BEGIN:VEVENT
SUMMARY:Exposición Del color en el arte (Coloramas)
DTSTART;VALUE=DATE:20260226
DTEND;VALUE=DATE:20260518
DTSTAMP;VALUE=DATE-TIME:20260420T185831Z
UID:2a594371377c4d63a9a5bbfccfbaf7bd@icas.sevilla.org
CATEGORIES:arte contemporáneo,artes visuales
CREATED;VALUE=DATE-TIME:20260331T090326Z
LAST-MODIFIED;VALUE=DATE-TIME:20260331T090735Z
URL:https://icas.sevilla.org/agenda/exposicion-del-color-en-el-arte-colora
 mas-1
END:VEVENT
END:VCALENDAR
