BEGIN:VCALENDAR
VERSION:2.0
PRODID:-//Plone.org//NONSGML plone.app.event//EN
X-WR-TIMEZONE:Europe/Madrid
BEGIN:VEVENT
SUMMARY:Exposición fotográfica “Periferia”\, de  Julien Soulier
DTSTART;VALUE=DATE:20260420
DTEND;VALUE=DATE:20260504
DTSTAMP;VALUE=DATE-TIME:20260420T040641Z
UID:b80ced750980455f8511e266292ea66a@icas.sevilla.org
CATEGORIES:exposicion,fotografía
CREATED;VALUE=DATE-TIME:20260417T174137Z
LAST-MODIFIED;VALUE=DATE-TIME:20260417T174235Z
URL:https://icas.sevilla.org/agenda/exposicion-fotografica-201cperiferia20
 1d-de-julien-soulier
END:VEVENT
END:VCALENDAR
