BEGIN:VCALENDAR
VERSION:2.0
PRODID:-//Plone.org//NONSGML plone.app.event//EN
X-WR-TIMEZONE:Europe/Madrid
BEGIN:VEVENT
SUMMARY:Exposición Materia Prima. Placer\, poder\, ausencia.
DTSTART;VALUE=DATE:20250301
DTEND;VALUE=DATE:20250421
DTSTAMP;VALUE=DATE-TIME:20260423T140612Z
UID:d441f5ab7d4f44a0b4c99d9d6aa0013c@icas.sevilla.org
CATEGORIES:Arte contemporáneo
CREATED;VALUE=DATE-TIME:20250324T101850Z
LAST-MODIFIED;VALUE=DATE-TIME:20250324T202002Z
LOCATION:Real Fábrica de Artillería
URL:https://icas.sevilla.org/agenda/exposicion-materia-prima-placer-poder-
 ausencia
END:VEVENT
END:VCALENDAR
