BEGIN:VCALENDAR
VERSION:2.0
PRODID:-//Plone.org//NONSGML plone.app.event//EN
X-WR-TIMEZONE:Europe/Madrid
BEGIN:VEVENT
SUMMARY:Exposición Narrativas Ocultas
DTSTART;VALUE=DATE:20250129
DTEND;VALUE=DATE:20250429
DTSTAMP;VALUE=DATE-TIME:20260420T000447Z
UID:ee512b41a979431db4473e3af2b62d94@icas.sevilla.org
CATEGORIES:exposición
CREATED;VALUE=DATE-TIME:20250306T201748Z
LAST-MODIFIED;VALUE=DATE-TIME:20250324T201758Z
URL:https://icas.sevilla.org/agenda/exposicion-narrativas-ocultas
END:VEVENT
END:VCALENDAR
