BEGIN:VCALENDAR
VERSION:2.0
PRODID:-//Plone.org//NONSGML plone.app.event//EN
X-WR-TIMEZONE:Europe/Madrid
BEGIN:VEVENT
SUMMARY:Exposición TRI-FA-SI-CO
DTSTART;VALUE=DATE:20250214
DTEND;VALUE=DATE:20250516
DTSTAMP;VALUE=DATE-TIME:20260420T235350Z
UID:cd6856bae7584b519102afe8a9814764@icas.sevilla.org
CATEGORIES:Arte contemporáneo 
CREATED;VALUE=DATE-TIME:20250324T092323Z
LAST-MODIFIED;VALUE=DATE-TIME:20250324T092653Z
LOCATION:Espacio Santa Clara
URL:https://icas.sevilla.org/agenda/exposicion-tri-fa-si-co
END:VEVENT
END:VCALENDAR
