BEGIN:VCALENDAR
VERSION:2.0
PRODID:-//Plone.org//NONSGML plone.app.event//EN
X-WR-TIMEZONE:Europe/Madrid
BEGIN:VEVENT
SUMMARY:Carina la Debla: 'Flamenco Telúrico'
DTSTART;TZID=Europe/Madrid;VALUE=DATE-TIME:20200915T220000
DTEND;TZID=Europe/Madrid;VALUE=DATE-TIME:20200915T230000
DTSTAMP;VALUE=DATE-TIME:20260423T224613Z
UID:accd2bf9ee8d4209b289f4342872d7e6@icas.sevilla.org
CATEGORIES:Flamenco
CREATED;VALUE=DATE-TIME:20200910T092457Z
LAST-MODIFIED;VALUE=DATE-TIME:20231006T072412Z
LOCATION:Espacio Santa Clara
URL:https://icas.sevilla.org/agenda/fadrique-20-flamenco-3
END:VEVENT
BEGIN:VTIMEZONE
TZID:Europe/Madrid
X-LIC-LOCATION:Europe/Madrid
BEGIN:DAYLIGHT
DTSTART;VALUE=DATE-TIME:20200329T030000
TZNAME:CEST
TZOFFSETFROM:+0100
TZOFFSETTO:+0200
END:DAYLIGHT
END:VTIMEZONE
END:VCALENDAR
