BEGIN:VCALENDAR
VERSION:2.0
PRODID:-//Plone.org//NONSGML plone.app.event//EN
X-WR-TIMEZONE:Europe/Madrid
BEGIN:VEVENT
SUMMARY:FeMÀS\, XLII Festival de Música Antigua de Sevilla
DTSTART;VALUE=DATE:20250321
DTEND;VALUE=DATE:20250414
DTSTAMP;VALUE=DATE-TIME:20260422T043438Z
UID:47a31843d6414b52901f6e1bb6295c48@icas.sevilla.org
CATEGORIES:música antigua
CONTACT:https://www.femas.es/
CREATED;VALUE=DATE-TIME:20250324T125355Z
LAST-MODIFIED;VALUE=DATE-TIME:20250324T125401Z
URL:https://icas.sevilla.org/agenda/femas-xlii-festival-de-musica-antigua-
 de-sevilla-1
END:VEVENT
END:VCALENDAR
