BEGIN:VCALENDAR
VERSION:2.0
PRODID:-//Plone.org//NONSGML plone.app.event//EN
X-WR-TIMEZONE:Europe/Madrid
BEGIN:VEVENT
SUMMARY:XLIII Feria del libro antiguo y de ocasión: 'Estampas literarias 
 de España y ultramar'
DTSTART;TZID=Europe/Madrid;VALUE=DATE-TIME:20201126T190000
DTEND;TZID=Europe/Madrid;VALUE=DATE-TIME:20201126T200000
DTSTAMP;VALUE=DATE-TIME:20260425T014235Z
UID:7efd7cfaa4c14e6d8422515df148df19@icas.sevilla.org
CATEGORIES:Literatura
CREATED;VALUE=DATE-TIME:20200923T104705Z
LAST-MODIFIED;VALUE=DATE-TIME:20231006T072525Z
URL:https://icas.sevilla.org/agenda/feria-estampas
END:VEVENT
BEGIN:VTIMEZONE
TZID:Europe/Madrid
X-LIC-LOCATION:Europe/Madrid
BEGIN:STANDARD
DTSTART;VALUE=DATE-TIME:20201025T020000
TZNAME:CET
TZOFFSETFROM:+0200
TZOFFSETTO:+0100
END:STANDARD
END:VTIMEZONE
END:VCALENDAR
