BEGIN:VCALENDAR
VERSION:2.0
PRODID:-//Plone.org//NONSGML plone.app.event//EN
X-WR-TIMEZONE:Europe/Madrid
BEGIN:VEVENT
SUMMARY:Festival de Magia
DTSTART;TZID=Europe/Madrid;VALUE=DATE-TIME:20231209T200000
DTEND;TZID=Europe/Madrid;VALUE=DATE-TIME:20231209T210000
DTSTAMP;VALUE=DATE-TIME:20260421T153222Z
UID:5cae9dfa27c14873ba0e56000632aa60@icas.sevilla.org
CATEGORIES:Magia
CREATED;VALUE=DATE-TIME:20231106T093939Z
LAST-MODIFIED;VALUE=DATE-TIME:20231106T123505Z
URL:https://icas.sevilla.org/agenda/festival-de-magia
END:VEVENT
BEGIN:VTIMEZONE
TZID:Europe/Madrid
X-LIC-LOCATION:Europe/Madrid
BEGIN:STANDARD
DTSTART;VALUE=DATE-TIME:20231029T020000
TZNAME:CET
TZOFFSETFROM:+0200
TZOFFSETTO:+0100
END:STANDARD
END:VTIMEZONE
END:VCALENDAR
