BEGIN:VCALENDAR
VERSION:2.0
PRODID:-//Plone.org//NONSGML plone.app.event//EN
X-WR-TIMEZONE:Europe/Madrid
BEGIN:VEVENT
SUMMARY:Festival Dundunba
DTSTART;VALUE=DATE:20211112
DTEND;VALUE=DATE:20211114
DTSTAMP;VALUE=DATE-TIME:20260421T040518Z
UID:eed2b7de84b047dd9b02bb2f0ff0b878@icas.sevilla.org
CATEGORIES:Cuentacuentos,Danza,Música
CREATED;VALUE=DATE-TIME:20211109T152154Z
DESCRIPTION:Pasacalles\, talleres\, música en directo y mucho más.
LAST-MODIFIED;VALUE=DATE-TIME:20231006T075528Z
URL:https://icas.sevilla.org/agenda/festival-dundunba
END:VEVENT
END:VCALENDAR
