BEGIN:VCALENDAR
VERSION:2.0
PRODID:-//Plone.org//NONSGML plone.app.event//EN
X-WR-TIMEZONE:Europe/Madrid
BEGIN:VEVENT
SUMMARY:Festival Sevilla Swing!
DTSTART;VALUE=DATE:20250404
DTEND;VALUE=DATE:20250407
DTSTAMP;VALUE=DATE-TIME:20260420T083030Z
UID:128b1ceb6aa04beba1597533f485ca2b@icas.sevilla.org
CATEGORIES:música,danza
CONTACT:https://sevillaswingfestival.com/
CREATED;VALUE=DATE-TIME:20250324T131652Z
LAST-MODIFIED;VALUE=DATE-TIME:20250324T202039Z
URL:https://icas.sevilla.org/agenda/festival-sevilla-swing
END:VEVENT
END:VCALENDAR
