BEGIN:VCALENDAR
VERSION:2.0
PRODID:-//Plone.org//NONSGML plone.app.event//EN
X-WR-TIMEZONE:Europe/Madrid
BEGIN:VEVENT
SUMMARY:Field Holler. Retratos de blues\, de Jose Montaño
DTSTART;VALUE=DATE:20211020
DTEND;VALUE=DATE:20211101
DTSTAMP;VALUE=DATE-TIME:20260423T141959Z
UID:62313549ed314caab28b25aaf1546d47@icas.sevilla.org
CATEGORIES:Exposiciones
CREATED;VALUE=DATE-TIME:20210917T071056Z
LAST-MODIFIED;VALUE=DATE-TIME:20231006T075053Z
URL:https://icas.sevilla.org/agenda/field-holler-retratos-de-blues-de-jose
 -montano
END:VEVENT
END:VCALENDAR
