BEGIN:VCALENDAR
VERSION:2.0
PRODID:-//Plone.org//NONSGML plone.app.event//EN
X-WR-TIMEZONE:Europe/Madrid
BEGIN:VEVENT
SUMMARY:Flamenco Tres Culturas: Alaa Zouiten y Mona Boutcheback - Aficiona
 do
DTSTART;TZID=Europe/Madrid;VALUE=DATE-TIME:20200921T210000
DTEND;TZID=Europe/Madrid;VALUE=DATE-TIME:20200921T220000
DTSTAMP;VALUE=DATE-TIME:20260423T204202Z
UID:22085faa89ea47428da8cc8d08819d03@icas.sevilla.org
CATEGORIES:Flamenco,Música
CREATED;VALUE=DATE-TIME:20200806T113424Z
LAST-MODIFIED;VALUE=DATE-TIME:20231006T072401Z
LOCATION:Fundación Tres Culturas
URL:https://icas.sevilla.org/agenda/flamenco-tres-culturas-alaa-zouiten-y-
 mona-boutcheback-aficionado
END:VEVENT
BEGIN:VTIMEZONE
TZID:Europe/Madrid
X-LIC-LOCATION:Europe/Madrid
BEGIN:DAYLIGHT
DTSTART;VALUE=DATE-TIME:20200329T030000
TZNAME:CEST
TZOFFSETFROM:+0100
TZOFFSETTO:+0200
END:DAYLIGHT
END:VTIMEZONE
END:VCALENDAR
