BEGIN:VCALENDAR
VERSION:2.0
PRODID:-//Plone.org//NONSGML plone.app.event//EN
X-WR-TIMEZONE:Europe/Madrid
BEGIN:VEVENT
SUMMARY:FOC Festival Cultura con Orgullo
DTSTART;TZID=Europe/Madrid;VALUE=DATE-TIME:20230526T203000
DTEND;TZID=Europe/Madrid;VALUE=DATE-TIME:20230610T210000
DTSTAMP;VALUE=DATE-TIME:20260423T142000Z
UID:82220e78d4e047dfa0212e8155fe4f94@icas.sevilla.org
CREATED;VALUE=DATE-TIME:20230524T172440Z
LAST-MODIFIED;VALUE=DATE-TIME:20231006T080527Z
LOCATION:Varias ubicaciones
URL:https://icas.sevilla.org/agenda/foc-festival-cultura-con-orgullo
END:VEVENT
BEGIN:VTIMEZONE
TZID:Europe/Madrid
X-LIC-LOCATION:Europe/Madrid
BEGIN:DAYLIGHT
DTSTART;VALUE=DATE-TIME:20230326T030000
TZNAME:CEST
TZOFFSETFROM:+0100
TZOFFSETTO:+0200
END:DAYLIGHT
END:VTIMEZONE
END:VCALENDAR
