BEGIN:VCALENDAR
VERSION:2.0
PRODID:-//Plone.org//NONSGML plone.app.event//EN
X-WR-TIMEZONE:Europe/Madrid
BEGIN:VEVENT
SUMMARY:Formación de usuarios y usuarias
DTSTART;TZID=Europe/Madrid;VALUE=DATE-TIME:20210903T093000
DTEND;TZID=Europe/Madrid;VALUE=DATE-TIME:20210903T103000
DTSTAMP;VALUE=DATE-TIME:20260419T200534Z
UID:b9144815a889493d859820287b0163aa@icas.sevilla.org
CATEGORIES:Bibliotecas
CREATED;VALUE=DATE-TIME:20210824T124028Z
LAST-MODIFIED;VALUE=DATE-TIME:20231006T074954Z
LOCATION:Biblioteca Las Columnas
URL:https://icas.sevilla.org/agenda/formacion-de-usuarios-y-usuarias-2
END:VEVENT
BEGIN:VTIMEZONE
TZID:Europe/Madrid
X-LIC-LOCATION:Europe/Madrid
BEGIN:DAYLIGHT
DTSTART;VALUE=DATE-TIME:20210328T030000
TZNAME:CEST
TZOFFSETFROM:+0100
TZOFFSETTO:+0200
END:DAYLIGHT
END:VTIMEZONE
END:VCALENDAR
