BEGIN:VCALENDAR
VERSION:2.0
PRODID:-//Plone.org//NONSGML plone.app.event//EN
X-WR-TIMEZONE:Europe/Madrid
BEGIN:VEVENT
SUMMARY:Formación de usuarios y usuarias
DTSTART;TZID=Europe/Madrid;VALUE=DATE-TIME:20210507T093000
DTEND;TZID=Europe/Madrid;VALUE=DATE-TIME:20210507T103000
DTSTAMP;VALUE=DATE-TIME:20260422T085733Z
UID:e62fea7096204a73832c97d98ace2f04@icas.sevilla.org
CATEGORIES:Bibliotecas,Literatura
CREATED;VALUE=DATE-TIME:20210419T130019Z
LAST-MODIFIED;VALUE=DATE-TIME:20231006T073415Z
LOCATION:Biblioteca Las Columnas
URL:https://icas.sevilla.org/agenda/formacion-de-usuarios-y-usuarias
END:VEVENT
BEGIN:VTIMEZONE
TZID:Europe/Madrid
X-LIC-LOCATION:Europe/Madrid
BEGIN:DAYLIGHT
DTSTART;VALUE=DATE-TIME:20210328T030000
TZNAME:CEST
TZOFFSETFROM:+0100
TZOFFSETTO:+0200
END:DAYLIGHT
END:VTIMEZONE
END:VCALENDAR
