BEGIN:VCALENDAR
VERSION:2.0
PRODID:-//Plone.org//NONSGML plone.app.event//EN
X-WR-TIMEZONE:Europe/Madrid
BEGIN:VEVENT
SUMMARY:Frenia
DTSTART;TZID=Europe/Madrid;VALUE=DATE-TIME:20221015T110000
DTEND;TZID=Europe/Madrid;VALUE=DATE-TIME:20221016T140000
DTSTAMP;VALUE=DATE-TIME:20260421T035443Z
UID:297ace45ab884dc681f9f765db4f937c@icas.sevilla.org
CATEGORIES:Exposición,Performance
CREATED;VALUE=DATE-TIME:20221013T124431Z
LAST-MODIFIED;VALUE=DATE-TIME:20231006T080240Z
LOCATION:Real Fábrica de Artillería
URL:https://icas.sevilla.org/agenda/frenia
END:VEVENT
BEGIN:VTIMEZONE
TZID:Europe/Madrid
X-LIC-LOCATION:Europe/Madrid
BEGIN:DAYLIGHT
DTSTART;VALUE=DATE-TIME:20220327T030000
TZNAME:CEST
TZOFFSETFROM:+0100
TZOFFSETTO:+0200
END:DAYLIGHT
END:VTIMEZONE
END:VCALENDAR
