BEGIN:VCALENDAR
VERSION:2.0
PRODID:-//Plone.org//NONSGML plone.app.event//EN
X-WR-TIMEZONE:Europe/Madrid
BEGIN:VEVENT
SUMMARY:Proyección: Trailer oficial de 'Eterna'\, Documental sobre Gata C
 attana de la mano del Director Juan Manuel Sayalonga
DTSTART;TZID=Europe/Madrid;VALUE=DATE-TIME:20210318T190000
DTEND;TZID=Europe/Madrid;VALUE=DATE-TIME:20210318T191500
DTSTAMP;VALUE=DATE-TIME:20260422T231355Z
UID:540af3af40e943fab771a8fdd82c8191@icas.sevilla.org
CATEGORIES:Cine
CREATED;VALUE=DATE-TIME:20210315T170743Z
DESCRIPTION:III Muestra de Cine Social LIVING SUR
LAST-MODIFIED;VALUE=DATE-TIME:20231006T073249Z
URL:https://icas.sevilla.org/agenda/gata-trailer
END:VEVENT
BEGIN:VTIMEZONE
TZID:Europe/Madrid
X-LIC-LOCATION:Europe/Madrid
BEGIN:STANDARD
DTSTART;VALUE=DATE-TIME:20201025T020000
TZNAME:CET
TZOFFSETFROM:+0200
TZOFFSETTO:+0100
END:STANDARD
END:VTIMEZONE
END:VCALENDAR
