BEGIN:VCALENDAR
VERSION:2.0
PRODID:-//Plone.org//NONSGML plone.app.event//EN
X-WR-TIMEZONE:Europe/Madrid
BEGIN:VEVENT
SUMMARY:Gran Gala CIRCADA
DTSTART;TZID=Europe/Madrid;VALUE=DATE-TIME:20210603T200000
DTEND;TZID=Europe/Madrid;VALUE=DATE-TIME:20210603T211000
DTSTAMP;VALUE=DATE-TIME:20260419T173443Z
UID:41cf9dc4400a46b9af60f60f052d44ff@icas.sevilla.org
CREATED;VALUE=DATE-TIME:20210517T130242Z
LAST-MODIFIED;VALUE=DATE-TIME:20231006T073632Z
LOCATION:Teatro Lope de Vega
URL:https://icas.sevilla.org/agenda/gran-gala-circada
END:VEVENT
BEGIN:VTIMEZONE
TZID:Europe/Madrid
X-LIC-LOCATION:Europe/Madrid
BEGIN:DAYLIGHT
DTSTART;VALUE=DATE-TIME:20210328T030000
TZNAME:CEST
TZOFFSETFROM:+0100
TZOFFSETTO:+0200
END:DAYLIGHT
END:VTIMEZONE
END:VCALENDAR
