BEGIN:VCALENDAR
VERSION:2.0
PRODID:-//Plone.org//NONSGML plone.app.event//EN
X-WR-TIMEZONE:Europe/Madrid
BEGIN:VEVENT
SUMMARY:Grandes personajes del cómic
DTSTART;VALUE=DATE:20210506
DTEND;VALUE=DATE:20210507
DTSTAMP;VALUE=DATE-TIME:20260423T041403Z
UID:958fda752ff94b31b91779dde58b2b9c@icas.sevilla.org
CREATED;VALUE=DATE-TIME:20210416T084912Z
LAST-MODIFIED;VALUE=DATE-TIME:20231006T073337Z
LOCATION:Biblioteca San Jerónimo
URL:https://icas.sevilla.org/agenda/grandes-personajes-del-comic
END:VEVENT
END:VCALENDAR
