BEGIN:VCALENDAR
VERSION:2.0
PRODID:-//Plone.org//NONSGML plone.app.event//EN
X-WR-TIMEZONE:Europe/Madrid
BEGIN:VEVENT
SUMMARY:Guillermo Rayo & Javier Galiana: 'La Torre Herida por el (guillerm
 o) Rayo'
DTSTART;TZID=Europe/Madrid;VALUE=DATE-TIME:20201002T220000
DTEND;TZID=Europe/Madrid;VALUE=DATE-TIME:20201002T230000
DTSTAMP;VALUE=DATE-TIME:20260423T135039Z
UID:67a0eb79955c4097b9f7b58913095d83@icas.sevilla.org
CATEGORIES:Música
CREATED;VALUE=DATE-TIME:20200910T094258Z
LAST-MODIFIED;VALUE=DATE-TIME:20231006T072416Z
LOCATION:Espacio Santa Clara
URL:https://icas.sevilla.org/agenda/guille-rayo
END:VEVENT
BEGIN:VTIMEZONE
TZID:Europe/Madrid
X-LIC-LOCATION:Europe/Madrid
BEGIN:DAYLIGHT
DTSTART;VALUE=DATE-TIME:20200329T030000
TZNAME:CEST
TZOFFSETFROM:+0100
TZOFFSETTO:+0200
END:DAYLIGHT
END:VTIMEZONE
END:VCALENDAR
