BEGIN:VCALENDAR
VERSION:2.0
PRODID:-//Plone.org//NONSGML plone.app.event//EN
X-WR-TIMEZONE:Europe/Madrid
BEGIN:VEVENT
SUMMARY:Gustavo Adolfo Bécquer y el Parque de María Luisa. Visita guiada
DTSTART;TZID=Europe/Madrid;VALUE=DATE-TIME:20201129T103000
DTEND;TZID=Europe/Madrid;VALUE=DATE-TIME:20201129T120000
DTSTAMP;VALUE=DATE-TIME:20260419T163110Z
UID:42a98e0a9c86499fbaa2bc53e4fef10b@icas.sevilla.org
CREATED;VALUE=DATE-TIME:20201117T142004Z
LAST-MODIFIED;VALUE=DATE-TIME:20231006T072848Z
URL:https://icas.sevilla.org/agenda/gustavo-adolfo-becquer-y-el-parque-de-
 maria-luisa-visita-guiada
END:VEVENT
BEGIN:VTIMEZONE
TZID:Europe/Madrid
X-LIC-LOCATION:Europe/Madrid
BEGIN:STANDARD
DTSTART;VALUE=DATE-TIME:20201025T020000
TZNAME:CET
TZOFFSETFROM:+0200
TZOFFSETTO:+0100
END:STANDARD
END:VTIMEZONE
END:VCALENDAR
