BEGIN:VCALENDAR
VERSION:2.0
PRODID:-//Plone.org//NONSGML plone.app.event//EN
X-WR-TIMEZONE:Europe/Madrid
BEGIN:VEVENT
SUMMARY:Gymkana especial año de Magallanes
DTSTART;TZID=Europe/Madrid;VALUE=DATE-TIME:20211026T100000
DTEND;TZID=Europe/Madrid;VALUE=DATE-TIME:20211026T130000
DTSTAMP;VALUE=DATE-TIME:20260423T141040Z
UID:ecf91b5895c144b2a7bbbe294b401103@icas.sevilla.org
CATEGORIES:Infantil,Literatura
CREATED;VALUE=DATE-TIME:20210921T070042Z
LAST-MODIFIED;VALUE=DATE-TIME:20231006T075138Z
LOCATION:Biblioteca El Esqueleto
URL:https://icas.sevilla.org/agenda/gymkana-especial-ano-de-magallanes
END:VEVENT
BEGIN:VTIMEZONE
TZID:Europe/Madrid
X-LIC-LOCATION:Europe/Madrid
BEGIN:DAYLIGHT
DTSTART;VALUE=DATE-TIME:20210328T030000
TZNAME:CEST
TZOFFSETFROM:+0100
TZOFFSETTO:+0200
END:DAYLIGHT
END:VTIMEZONE
END:VCALENDAR
