BEGIN:VCALENDAR
VERSION:2.0
PRODID:-//Plone.org//NONSGML plone.app.event//EN
X-WR-TIMEZONE:Europe/Madrid
BEGIN:VEVENT
SUMMARY:2ª GYMKHANA BIBLIOTECARIA. Un tesoro por descubrir
DTSTART;TZID=Europe/Madrid;VALUE=DATE-TIME:20220422T180000
DTEND;TZID=Europe/Madrid;VALUE=DATE-TIME:20220422T193000
DTSTAMP;VALUE=DATE-TIME:20260423T140337Z
UID:2e8de48631ef4bcfa2c832817e73e9ad@icas.sevilla.org
CATEGORIES:Gymkhana
CREATED;VALUE=DATE-TIME:20220411T161511Z
LAST-MODIFIED;VALUE=DATE-TIME:20231006T075857Z
LOCATION:Biblioteca Las Columnas
URL:https://icas.sevilla.org/agenda/gymkhana
END:VEVENT
BEGIN:VTIMEZONE
TZID:Europe/Madrid
X-LIC-LOCATION:Europe/Madrid
BEGIN:DAYLIGHT
DTSTART;VALUE=DATE-TIME:20220327T030000
TZNAME:CEST
TZOFFSETFROM:+0100
TZOFFSETTO:+0200
END:DAYLIGHT
END:VTIMEZONE
END:VCALENDAR
