BEGIN:VCALENDAR
VERSION:2.0
PRODID:-//Plone.org//NONSGML plone.app.event//EN
X-WR-TIMEZONE:Europe/Madrid
BEGIN:VEVENT
SUMMARY:Proyecto Ocnos: 'Hafune. Pájaro Demoníaco'
DTSTART;TZID=Europe/Madrid;VALUE=DATE-TIME:20201206T120000
DTEND;TZID=Europe/Madrid;VALUE=DATE-TIME:20201206T133000
DTSTAMP;VALUE=DATE-TIME:20260422T071243Z
UID:f08923dda97f48f4a58248a0b4fc89f2@icas.sevilla.org
CATEGORIES:Música
CREATED;VALUE=DATE-TIME:20201013T072543Z
LAST-MODIFIED;VALUE=DATE-TIME:20231006T072712Z
LOCATION:Sala Silvio
URL:https://icas.sevilla.org/agenda/hafune-ocnos-20
END:VEVENT
BEGIN:VTIMEZONE
TZID:Europe/Madrid
X-LIC-LOCATION:Europe/Madrid
BEGIN:STANDARD
DTSTART;VALUE=DATE-TIME:20201025T020000
TZNAME:CET
TZOFFSETFROM:+0200
TZOFFSETTO:+0100
END:STANDARD
END:VTIMEZONE
END:VCALENDAR
