BEGIN:VCALENDAR
VERSION:2.0
PRODID:-//Plone.org//NONSGML plone.app.event//EN
X-WR-TIMEZONE:Europe/Madrid
BEGIN:VEVENT
SUMMARY:Haiku en otoño
DTSTART;TZID=Europe/Madrid;VALUE=DATE-TIME:20211115T113000
DTEND;TZID=Europe/Madrid;VALUE=DATE-TIME:20211115T123000
DTSTAMP;VALUE=DATE-TIME:20260422T104915Z
UID:f8b1e4708b264f45b9f182489b6f301b@icas.sevilla.org
CATEGORIES:Bibliotecas,Literatura
CREATED;VALUE=DATE-TIME:20211025T201357Z
LAST-MODIFIED;VALUE=DATE-TIME:20231006T075506Z
LOCATION:Biblioteca San Julián
URL:https://icas.sevilla.org/agenda/haiku-en-otono-1
END:VEVENT
BEGIN:VTIMEZONE
TZID:Europe/Madrid
X-LIC-LOCATION:Europe/Madrid
BEGIN:STANDARD
DTSTART;VALUE=DATE-TIME:20211031T020000
TZNAME:CET
TZOFFSETFROM:+0200
TZOFFSETTO:+0100
END:STANDARD
END:VTIMEZONE
END:VCALENDAR
