BEGIN:VCALENDAR
VERSION:2.0
PRODID:-//Plone.org//NONSGML plone.app.event//EN
X-WR-TIMEZONE:Europe/Madrid
BEGIN:VEVENT
SUMMARY:Haiku en otoño
DTSTART;TZID=Europe/Madrid;VALUE=DATE-TIME:20211108T113000
DTEND;TZID=Europe/Madrid;VALUE=DATE-TIME:20211108T123000
DTSTAMP;VALUE=DATE-TIME:20260423T092058Z
UID:514864181e064b8fa451a9ff866a0ed1@icas.sevilla.org
CATEGORIES:Bibliotecas,Literatura
CREATED;VALUE=DATE-TIME:20211025T200900Z
LAST-MODIFIED;VALUE=DATE-TIME:20231006T075503Z
LOCATION:Biblioteca San Julián
URL:https://icas.sevilla.org/agenda/haiku-en-otono
END:VEVENT
BEGIN:VTIMEZONE
TZID:Europe/Madrid
X-LIC-LOCATION:Europe/Madrid
BEGIN:STANDARD
DTSTART;VALUE=DATE-TIME:20211031T020000
TZNAME:CET
TZOFFSETFROM:+0200
TZOFFSETTO:+0100
END:STANDARD
END:VTIMEZONE
END:VCALENDAR
