BEGIN:VCALENDAR
VERSION:2.0
PRODID:-//Plone.org//NONSGML plone.app.event//EN
X-WR-TIMEZONE:Europe/Madrid
BEGIN:VEVENT
SUMMARY:Hispalis despierta. Las edades del vino - Con motivo del Día de l
 a Ruta de la Plata
DTSTART;TZID=Europe/Madrid;VALUE=DATE-TIME:20201017T123000
DTEND;TZID=Europe/Madrid;VALUE=DATE-TIME:20201017T140000
DTSTAMP;VALUE=DATE-TIME:20260420T170850Z
UID:5888ce9e758e4b53b946ea626f5e1bfd@icas.sevilla.org
CATEGORIES:Exposiciones
CREATED;VALUE=DATE-TIME:20201016T114914Z
LAST-MODIFIED;VALUE=DATE-TIME:20231006T072837Z
URL:https://icas.sevilla.org/agenda/hispalis-despierta
END:VEVENT
BEGIN:VTIMEZONE
TZID:Europe/Madrid
X-LIC-LOCATION:Europe/Madrid
BEGIN:DAYLIGHT
DTSTART;VALUE=DATE-TIME:20200329T030000
TZNAME:CEST
TZOFFSETFROM:+0100
TZOFFSETTO:+0200
END:DAYLIGHT
END:VTIMEZONE
END:VCALENDAR
