BEGIN:VCALENDAR
VERSION:2.0
PRODID:-//Plone.org//NONSGML plone.app.event//EN
X-WR-TIMEZONE:Europe/Madrid
BEGIN:VEVENT
SUMMARY:Historia de Triana\, la otra ciudad de Sevilla. Visita organizada 
 por la Biblioteca Municipal Felipe González Márquez
DTSTART;VALUE=DATE:20201126
DTEND;VALUE=DATE:20201127
DTSTAMP;VALUE=DATE-TIME:20260423T142522Z
UID:ced77a079f6e4cb4bd85ae09cdf37bab@icas.sevilla.org
CATEGORIES:Patrimonio
CREATED;VALUE=DATE-TIME:20201117T143820Z
LAST-MODIFIED;VALUE=DATE-TIME:20231006T072852Z
URL:https://icas.sevilla.org/agenda/historia-de-triana-la-otra-ciudad-de-s
 evilla-visita-organizada-por-la-biblioteca-municipal-felipe-gonzalez-marqu
 ez
END:VEVENT
END:VCALENDAR
