BEGIN:VCALENDAR
VERSION:2.0
PRODID:-//Plone.org//NONSGML plone.app.event//EN
X-WR-TIMEZONE:Europe/Madrid
BEGIN:VEVENT
SUMMARY:Historias un poco cafres: historias que se contaron\, se cuentan y
  se contarán
DTSTART;TZID=Europe/Madrid;VALUE=DATE-TIME:20211112T180000
DTEND;TZID=Europe/Madrid;VALUE=DATE-TIME:20211112T190000
DTSTAMP;VALUE=DATE-TIME:20260423T041947Z
UID:a543adda5a1746bf9ddd54cdde2cf407@icas.sevilla.org
CATEGORIES:Bibliotecas,Cuentacuentos,Infantil
CREATED;VALUE=DATE-TIME:20211019T141825Z
LAST-MODIFIED;VALUE=DATE-TIME:20231006T075316Z
LOCATION:Biblioteca Blas Infante
URL:https://icas.sevilla.org/agenda/historias-un-poco-cafres-historias-que
 -se-contaron-se-cuentan-y-se-contaran
END:VEVENT
BEGIN:VTIMEZONE
TZID:Europe/Madrid
X-LIC-LOCATION:Europe/Madrid
BEGIN:STANDARD
DTSTART;VALUE=DATE-TIME:20211031T020000
TZNAME:CET
TZOFFSETFROM:+0200
TZOFFSETTO:+0100
END:STANDARD
END:VTIMEZONE
END:VCALENDAR
