BEGIN:VCALENDAR
VERSION:2.0
PRODID:-//Plone.org//NONSGML plone.app.event//EN
X-WR-TIMEZONE:Europe/Madrid
BEGIN:VEVENT
SUMMARY:Home. Cris Clown (Cataluña)
DTSTART;TZID=Europe/Madrid;VALUE=DATE-TIME:20230608T210000
DTEND;TZID=Europe/Madrid;VALUE=DATE-TIME:20230609T210000
DTSTAMP;VALUE=DATE-TIME:20260420T224535Z
UID:ee28267cc49e42359e6e7d414c3398c4@icas.sevilla.org
CATEGORIES:Circo
CREATED;VALUE=DATE-TIME:20230523T092435Z
LAST-MODIFIED;VALUE=DATE-TIME:20231006T080519Z
LOCATION:Las Setas
URL:https://icas.sevilla.org/agenda/home-cris-clown-cataluna
END:VEVENT
BEGIN:VTIMEZONE
TZID:Europe/Madrid
X-LIC-LOCATION:Europe/Madrid
BEGIN:DAYLIGHT
DTSTART;VALUE=DATE-TIME:20230326T030000
TZNAME:CEST
TZOFFSETFROM:+0100
TZOFFSETTO:+0200
END:DAYLIGHT
END:VTIMEZONE
END:VCALENDAR
