BEGIN:VCALENDAR
VERSION:2.0
PRODID:-//Plone.org//NONSGML plone.app.event//EN
X-WR-TIMEZONE:Europe/Madrid
BEGIN:VEVENT
SUMMARY:Conferencia Espacios de la memoria en Sevilla\, con José Luis Gut
 iérrez: 'El campo de concentración en Los Remedios'
DTSTART;TZID=Europe/Madrid;VALUE=DATE-TIME:20210128T160000
DTEND;TZID=Europe/Madrid;VALUE=DATE-TIME:20210128T170000
DTSTAMP;VALUE=DATE-TIME:20260422T105512Z
UID:06af47a3d85147c8a4701ebf472ad906@icas.sevilla.org
CREATED;VALUE=DATE-TIME:20210112T083332Z
LAST-MODIFIED;VALUE=DATE-TIME:20231006T073201Z
URL:https://icas.sevilla.org/agenda/https-icas-sevilla-org-agenda-add-even
 t-autotoc-item-autotoc-0concentracion-remedios
END:VEVENT
BEGIN:VTIMEZONE
TZID:Europe/Madrid
X-LIC-LOCATION:Europe/Madrid
BEGIN:STANDARD
DTSTART;VALUE=DATE-TIME:20201025T020000
TZNAME:CET
TZOFFSETFROM:+0200
TZOFFSETTO:+0100
END:STANDARD
END:VTIMEZONE
END:VCALENDAR
